BEGIN:VCALENDAR
VERSION:2.0
PRODID:icalendar-ruby
CALSCALE:GREGORIAN
METHOD:PUBLISH
BEGIN:VEVENT
DTSTAMP:20260424T034534Z
UID:88-500296@rejoicefrisco.com
DTSTART;VALUE=DATE:20260604
DTEND;VALUE=DATE:20260604
CLASS:PUBLIC
CREATED:20260413T223330
DESCRIPTION:
LAST-MODIFIED:20260413T223330
LOCATION:
SUMMARY:Herb Guild
URL;VALUE=URI:https://www.rejoicefrisco.com/events/herb-guild/2026-06-04
ATTACH;FILENAME=herbs.png;FMTTYPE=image/png:https://dq5pwpg1q8ru0.cloudfron
 t.net/2025/02/21/23/41/35/2a424487-ef08-46f2-9ed9-fa18c9d07d5f/herbs.png
END:VEVENT
END:VCALENDAR
